{
 "currentVersion": 10.91,
 "serviceDescription": "Elevation_Service",
 "name": "Elevation_Service",
 "description": "",
 "extent": {
  "xmin": 2301190.557377499,
  "ymin": 2076538.5992346746,
  "xmax": 2488522.8598774984,
  "ymax": 2310112.60715134,
  "spatialReference": {
   "wkid": 102670,
   "latestWkid": 2243
  }
 },
 "initialExtent": {
  "xmin": 2301190.557377499,
  "ymin": 2076538.5992346746,
  "xmax": 2488522.8598774984,
  "ymax": 2310112.60715134,
  "spatialReference": {
   "wkid": 102670,
   "latestWkid": 2243
  }
 },
 "fullExtent": {
  "xmin": 2301190.557377499,
  "ymin": 2076538.5992346746,
  "xmax": 2488522.8598774984,
  "ymax": 2310112.60715134,
  "spatialReference": {
   "wkid": 102670,
   "latestWkid": 2243
  }
 },
 "pixelSizeX": 1.6404166666666604,
 "pixelSizeY": 1.6404166666666595,
 "bandCount": 1,
 "pixelType": "F32",
 "minPixelSize": 0,
 "maxPixelSize": 0,
 "copyrightText": "",
 "serviceDataType": "esriImageServiceDataTypeGeneric",
 "minValues": [
  2032.4857177734375
 ],
 "maxValues": [
  6411.44189453125
 ],
 "meanValues": [
  2975.458703251468
 ],
 "stdvValues": [
  743.8845384564488
 ],
 "objectIdField": "",
 "fields": [],
 "capabilities": "Image,Metadata,Mensuration",
 "defaultMosaicMethod": "Center",
 "allowedMosaicMethods": "",
 "sortField": "",
 "sortValue": null,
 "sortAscending": true,
 "mosaicOperator": "First",
 "defaultCompressionQuality": 75,
 "defaultResamplingMethod": "Bilinear",
 "maxImageHeight": 4100,
 "maxImageWidth": 15000,
 "allowRasterFunction": true,
 "rasterFunctionInfos": [
  {
   "name": "None",
   "description": "",
   "help": ""
  }
 ],
 "rasterTypeInfos": [
  {
   "name": "Raster Dataset",
   "description": "Supports all ArcGIS Raster Datasets",
   "help": ""
  }
 ],
 "mensurationCapabilities": "Basic",
 "hasHistograms": true,
 "hasColormap": false,
 "hasRasterAttributeTable": false,
 "minScale": 0,
 "maxScale": 0,
 "exportTilesAllowed": false,
 "hasMultidimensions": false,
 "supportsStatistics": false,
 "supportsAdvancedQueries": false,
 "editFieldsInfo": null,
 "ownershipBasedAccessControlForRasters": null,
 "allowComputeTiePoints": false,
 "useStandardizedQueries": true,
 "advancedQueryCapabilities": {
  "useStandardizedQueries": true,
  "supportsStatistics": false,
  "supportsOrderBy": false,
  "supportsDistinct": false,
  "supportsPagination": false
 },
 "spatialReference": {
  "wkid": 102670,
  "latestWkid": 2243
 }
}
