View In:
ArcGIS JavaScript
ArcGIS Online Map Viewer
ArcGIS Earth
ArcMap
View Footprint In:
ArcGIS Online Map Viewer
Service Description: Elevation_Service
Name: Elevation_Service
Description:
Single Fused Map Cache: false
Extent:
XMin: 2301190.557377499
YMin: 2076538.5992346746
XMax: 2488522.8598774984
YMax: 2310112.60715134
Spatial Reference: 102670
(2243)
Initial Extent:
XMin: 2301190.557377499
YMin: 2076538.5992346746
XMax: 2488522.8598774984
YMax: 2310112.60715134
Spatial Reference: 102670
(2243)
Full Extent:
XMin: 2301190.557377499
YMin: 2076538.5992346746
XMax: 2488522.8598774984
YMax: 2310112.60715134
Spatial Reference: 102670
(2243)
Pixel Size X: 1.6404166666666604
Pixel Size Y: 1.6404166666666595
Band Count: 1
Pixel Type: F32
RasterFunction Infos: {"rasterFunctionInfos": [{
"name": "None",
"description": "",
"help": ""
}]}
Mensuration Capabilities: Basic
Has Histograms: true
Has Colormap: false
Has Multi Dimensions : false
Rendering Rule:
Min Scale: 0
Max Scale: 0
Copyright Text:
Service Data Type: esriImageServiceDataTypeGeneric
Min Values: 2032.4857177734375
Max Values: 6411.44189453125
Mean Values: 2975.458703251468
Standard Deviation Values: 743.8845384564488
Object ID Field:
Fields:
None
Default Mosaic Method: Center
Allowed Mosaic Methods:
SortField:
SortValue: null
Mosaic Operator: First
Default Compression Quality: 75
Default Resampling Method: Bilinear
Max Record Count: null
Max Image Height: 4100
Max Image Width: 15000
Max Download Image Count: null
Max Mosaic Image Count: null
Allow Raster Function: true
Allow Copy: null
Allow Analysis: null
Allow Compute TiePoints: false
Supports Statistics: false
Supports Advanced Queries: false
Use StandardizedQueries: true
Raster Type Infos:
Name: Raster Dataset
Description: Supports all ArcGIS Raster Datasets
Help:
Has Raster Attribute Table: false
Edit Fields Info: null
Ownership Based AccessControl For Rasters: null
Child Resources:
Info
Histograms
Key Properties
Legend
Raster Function Infos
Supported Operations:
Export Image
Identify
Measure
Compute Histograms
Compute Statistics Histograms
Get Samples
Compute Class Statistics
Query Boundary
Compute Pixel Location
Compute Angles
Validate
Project